BEGIN:VCALENDAR
VERSION:2.0
PRODID:-//Dolores el Puente - ECPv6.15.20//NONSGML v1.0//EN
CALSCALE:GREGORIAN
METHOD:PUBLISH
X-ORIGINAL-URL:https://doloresdelpuente.es
X-WR-CALDESC:Eventos para Dolores el Puente
REFRESH-INTERVAL;VALUE=DURATION:PT1H
X-Robots-Tag:noindex
X-PUBLISHED-TTL:PT1H
BEGIN:VTIMEZONE
TZID:Europe/Madrid
BEGIN:DAYLIGHT
TZOFFSETFROM:+0100
TZOFFSETTO:+0200
TZNAME:CEST
DTSTART:20240331T010000
END:DAYLIGHT
BEGIN:STANDARD
TZOFFSETFROM:+0200
TZOFFSETTO:+0100
TZNAME:CET
DTSTART:20241027T010000
END:STANDARD
BEGIN:DAYLIGHT
TZOFFSETFROM:+0100
TZOFFSETTO:+0200
TZNAME:CEST
DTSTART:20250330T010000
END:DAYLIGHT
BEGIN:STANDARD
TZOFFSETFROM:+0200
TZOFFSETTO:+0100
TZNAME:CET
DTSTART:20251026T010000
END:STANDARD
BEGIN:DAYLIGHT
TZOFFSETFROM:+0100
TZOFFSETTO:+0200
TZNAME:CEST
DTSTART:20260329T010000
END:DAYLIGHT
BEGIN:STANDARD
TZOFFSETFROM:+0200
TZOFFSETTO:+0100
TZNAME:CET
DTSTART:20261025T010000
END:STANDARD
END:VTIMEZONE
BEGIN:VTIMEZONE
TZID:UTC
BEGIN:STANDARD
TZOFFSETFROM:+0000
TZOFFSETTO:+0000
TZNAME:UTC
DTSTART:20240101T000000
END:STANDARD
END:VTIMEZONE
BEGIN:VEVENT
DTSTART;VALUE=DATE:20251129
DTEND;VALUE=DATE:20251130
DTSTAMP:20260421T123734
CREATED:20251104T101751Z
LAST-MODIFIED:20251104T102037Z
UID:32658-1764374400-1764460799@doloresdelpuente.es
SUMMARY:“Cruzamos el puente por Navidad” – Fiesta de Navidad de Dolores del Puente
DESCRIPTION:Almuerzo (14:00 h\, con reserva previa) y tardeo navideño (16:00 h\, entrada libre) en la Casa Hermandad del Sepulcro\, en un ambiente festivo y cofrade como arranque del tiempo de Navidad. \nActividad abierta a hermanos\, familiares\, amigos y personas vinculadas a la Hermandad. \nReservas almuerzo: 609 512 723.
URL:https://doloresdelpuente.es/evento/cruzamos-el-puente-por-navidad-fiesta-de-navidad-de-dolores-del-puente/
LOCATION:Casa Hermandad del Sepulcro\, Calle Alcazabilla\, 5
END:VEVENT
BEGIN:VEVENT
DTSTART;TZID=Europe/Madrid:20251107T200000
DTEND;TZID=Europe/Madrid:20251107T213000
DTSTAMP:20260421T123734
CREATED:20251026T181102Z
LAST-MODIFIED:20251026T181102Z
UID:32648-1762545600-1762551000@doloresdelpuente.es
SUMMARY:III Jornada Castellanista: Presentación del libro “Perfiles Contrastados. Jesús Castellanos"
DESCRIPTION:Presentación del libro “Perfiles Contrastados. Jesús Castellanos: Historiador\, artista y figura de la Semana Santa de Málaga”\, una publicación que analiza su legado humano\, artístico y cofrade desde diversas perspectivas. \nEl acto se enmarca dentro de la presentación de la Revista La Saeta de Otoño\, ofreciendo así un contexto de reflexión sobre la historia y el presente de nuestra Semana Santa.
URL:https://doloresdelpuente.es/evento/iii-jornada-castellanista-presentacion-del-libro-perfiles-contrastados-jesus-castellanos/
LOCATION:Iglesia de Santo Domingo
END:VEVENT
BEGIN:VEVENT
DTSTART;TZID=Europe/Madrid:20251105T200000
DTEND;TZID=Europe/Madrid:20251105T213000
DTSTAMP:20260421T123734
CREATED:20251026T180925Z
LAST-MODIFIED:20251026T180925Z
UID:32644-1762372800-1762378200@doloresdelpuente.es
SUMMARY:III Jornada Castellanista: /XXV\ años de memoria viva: El pregón de Jesús Castellanos
DESCRIPTION:Proyección comentada del pregón de la Semana Santa de Málaga que Jesús Castellanos pronunció hace 25 años\, una pieza fundamental en la historia reciente de nuestra Semana Mayor. \nIntervendrán Federico Fernández Basurte y Paloma Sánchez Domínguez\, con la moderación de Marta Jiménez\, quienes ofrecerán su visión sobre la vigencia y el valor simbólico de aquel pregón que marcó una época.
URL:https://doloresdelpuente.es/evento/iii-jornada-castellanista-xxv-anos-de-memoria-viva-el-pregon-de-jesus-castellanos/
LOCATION:Agrupación de Cofradías de Semana Santa de Málag\, Calle Muro de San Julián 2\, Málaga\, 29008\, Spain
END:VEVENT
BEGIN:VEVENT
DTSTART;TZID=UTC:20251102T113000
DTEND;TZID=UTC:20251102T123000
DTSTAMP:20260421T123734
CREATED:20250723T144054Z
LAST-MODIFIED:20250723T144054Z
UID:32129-1762083000-1762086600@doloresdelpuente.es
SUMMARY:Misa de Hermandad
DESCRIPTION:Como cada primer domingo de mes\, celebramos la Misa de Hermandad junto con la comunidad parroquial.
URL:https://doloresdelpuente.es/evento/misa-de-hermandad-4/
LOCATION:Iglesia de Santo Domingo
END:VEVENT
BEGIN:VEVENT
DTSTART;TZID=UTC:20251031T190000
DTEND;TZID=UTC:20251031T200000
DTSTAMP:20260421T123734
CREATED:20250710T082324Z
LAST-MODIFIED:20250723T143251Z
UID:31209-1761937200-1761940800@doloresdelpuente.es
SUMMARY:XXI Aniversario Coronación Canónica Ntra. Sra. de los Dolores
DESCRIPTION:Solemne Eucaristía
URL:https://doloresdelpuente.es/evento/xxi-aniversario-coronacion-canonica-ntra-sra-de-los-dolores/
LOCATION:Iglesia de Santo Domingo
END:VEVENT
BEGIN:VEVENT
DTSTART;TZID=UTC:20251005T113000
DTEND;TZID=UTC:20251005T123000
DTSTAMP:20260421T123734
CREATED:20250723T144000Z
LAST-MODIFIED:20250723T144000Z
UID:32127-1759663800-1759667400@doloresdelpuente.es
SUMMARY:Misa de Hermandad
DESCRIPTION:Como cada primer domingo de mes\, celebramos la Misa de Hermandad junto con la comunidad parroquial.
URL:https://doloresdelpuente.es/evento/misa-de-hermandad-3/
LOCATION:Iglesia de Santo Domingo
END:VEVENT
BEGIN:VEVENT
DTSTART;TZID=UTC:20250915T190000
DTEND;TZID=UTC:20250915T233000
DTSTAMP:20260421T123734
CREATED:20250710T082058Z
LAST-MODIFIED:20250723T143542Z
UID:31205-1757962800-1757979000@doloresdelpuente.es
SUMMARY:Festividad Dolores Gloriosos
DESCRIPTION:Solemne Eucaristía en honor a Nuestra Señora de los Dolores
URL:https://doloresdelpuente.es/evento/festividad-dolores-gloriosos-solemne-eucaristia/
LOCATION:Iglesia de Santo Domingo
END:VEVENT
BEGIN:VEVENT
DTSTART;TZID=UTC:20250915T103000
DTEND;TZID=UTC:20250915T193000
DTSTAMP:20260421T123734
CREATED:20250723T143438Z
LAST-MODIFIED:20250909T151551Z
UID:32120-1757932200-1757964600@doloresdelpuente.es
SUMMARY:Besamanos Nuestra Señora de los Dolores
DESCRIPTION:
URL:https://doloresdelpuente.es/evento/besamanos-nuestra-senora-de-los-dolores/
LOCATION:Iglesia de Santo Domingo
END:VEVENT
BEGIN:VEVENT
DTSTART;TZID=UTC:20250907T113000
DTEND;TZID=UTC:20250907T123000
DTSTAMP:20260421T123734
CREATED:20250723T143821Z
LAST-MODIFIED:20250723T143821Z
UID:32125-1757244600-1757248200@doloresdelpuente.es
SUMMARY:Misa de Hermandad
DESCRIPTION:Como cada primer domingo de mes\, celebramos la Misa de Hermandad junto con la comunidad parroquial.
URL:https://doloresdelpuente.es/evento/misa-de-hermandad-2/
LOCATION:Iglesia de Santo Domingo
END:VEVENT
BEGIN:VEVENT
DTSTART;TZID=UTC:20250803T113000
DTEND;TZID=UTC:20250803T123000
DTSTAMP:20260421T123734
CREATED:20250723T143719Z
LAST-MODIFIED:20250723T143719Z
UID:32123-1754220600-1754224200@doloresdelpuente.es
SUMMARY:Misa de Hermandad
DESCRIPTION:Como cada primer domingo de mes\, celebramos la Misa de Hermandad junto con la comunidad parroquial.
URL:https://doloresdelpuente.es/evento/misa-de-hermandad/
LOCATION:Iglesia de Santo Domingo
END:VEVENT
END:VCALENDAR